
BEGIN:VCALENDAR
VERSION:2.0
PRODID:-//212.86.55.139//NONSGML kigkonsult.se iCalcreator 2.20//
CALSCALE:GREGORIAN
METHOD:PUBLISH
X-WR-TIMEZONE:UTC
BEGIN:VEVENT
UID:event6@Thistle & Saltire Lodge No. 1040 GC
DTSTAMP:20260423T173330Z
CATEGORIES:Harmony
DESCRIPTION:Harmony\nCategory: Harmony\nLink: https://ts1040.org/index.php?
 option=com_jem&view=event&id=6:regular-meeting\n
DTSTART:20240913T210000Z
DTEND:20240913T230000Z
LOCATION:Logenhaus Herford\,Logenplatz 2-4\,D-32052 Herford
SUMMARY:Harmony
URL:https://ts1040.org/index.php?option=com_jem&view=event&id=6:regular-mee
 ting
END:VEVENT
END:VCALENDAR
