
BEGIN:VCALENDAR
VERSION:2.0
PRODID:-//212.86.55.139//NONSGML kigkonsult.se iCalcreator 2.20//
CALSCALE:GREGORIAN
METHOD:PUBLISH
X-WR-TIMEZONE:UTC
BEGIN:VEVENT
UID:event7@Thistle & Saltire Lodge No. 1040 GC
DTSTAMP:20260423T173304Z
CATEGORIES:Meeting
DESCRIPTION:Regular Meeting\nCategory: Meeting\nLink: https://ts1040.org/in
 dex.php?option=com_jem&view=event&id=7:regular-meeting\n
DTSTART:20241123T140000Z
DTEND:20241123T180000Z
LOCATION:Logenhaus 3WK Berlin\,Heerstraße 28\,D-14052 Berlin
SUMMARY:Regular Meeting
URL:https://ts1040.org/index.php?option=com_jem&view=event&id=7:regular-mee
 ting
END:VEVENT
END:VCALENDAR
