
BEGIN:VCALENDAR
VERSION:2.0
PRODID:-//212.86.55.139//NONSGML kigkonsult.se iCalcreator 2.20//
CALSCALE:GREGORIAN
METHOD:PUBLISH
X-WR-TIMEZONE:UTC
BEGIN:VEVENT
UID:event14@Thistle & Saltire Lodge No. 1040 GC
DTSTAMP:20260420T184558Z
CATEGORIES:Meeting
DESCRIPTION:Regular Meeting\nCategory: Meeting\nLink: https://ts1040.org/in
 dex.php?option=com_jem&view=event&id=14:regular-meeting\n
DTSTART;VALUE=DATE:20261128
DTEND;VALUE=DATE:20261129
LOCATION:Logenhaus 3WK Berlin\,Heerstraße 28\,D-14052 Berlin
SUMMARY:Regular Meeting
URL:https://ts1040.org/index.php?option=com_jem&view=event&id=14:regular-me
 eting
END:VEVENT
END:VCALENDAR
